BEGIN:VCALENDAR
VERSION:2.0
PRODID:-//Sirio - ECPv6.15.7//NONSGML v1.0//EN
CALSCALE:GREGORIAN
METHOD:PUBLISH
X-ORIGINAL-URL:https://www.sirioroma.org
X-WR-CALDESC:Eventi per Sirio
REFRESH-INTERVAL;VALUE=DURATION:PT1H
X-Robots-Tag:noindex
X-PUBLISHED-TTL:PT1H
BEGIN:VTIMEZONE
TZID:Europe/Rome
BEGIN:DAYLIGHT
TZOFFSETFROM:+0100
TZOFFSETTO:+0200
TZNAME:CEST
DTSTART:20230326T010000
END:DAYLIGHT
BEGIN:STANDARD
TZOFFSETFROM:+0200
TZOFFSETTO:+0100
TZNAME:CET
DTSTART:20231029T010000
END:STANDARD
BEGIN:DAYLIGHT
TZOFFSETFROM:+0100
TZOFFSETTO:+0200
TZNAME:CEST
DTSTART:20240331T010000
END:DAYLIGHT
BEGIN:STANDARD
TZOFFSETFROM:+0200
TZOFFSETTO:+0100
TZNAME:CET
DTSTART:20241027T010000
END:STANDARD
BEGIN:DAYLIGHT
TZOFFSETFROM:+0100
TZOFFSETTO:+0200
TZNAME:CEST
DTSTART:20250330T010000
END:DAYLIGHT
BEGIN:STANDARD
TZOFFSETFROM:+0200
TZOFFSETTO:+0100
TZNAME:CET
DTSTART:20251026T010000
END:STANDARD
BEGIN:DAYLIGHT
TZOFFSETFROM:+0100
TZOFFSETTO:+0200
TZNAME:CEST
DTSTART:20260329T010000
END:DAYLIGHT
BEGIN:STANDARD
TZOFFSETFROM:+0200
TZOFFSETTO:+0100
TZNAME:CET
DTSTART:20261025T010000
END:STANDARD
END:VTIMEZONE
BEGIN:VEVENT
DTSTART;VALUE=DATE:20250512
DTEND;VALUE=DATE:20250513
DTSTAMP:20260420T102929
CREATED:20250326T171658Z
LAST-MODIFIED:20250326T171739Z
UID:10000010-1747008000-1747094399@www.sirioroma.org
SUMMARY:“Gummy smile” e “short tooth syndrome” : eziopatogenesi classificazione diagnosi e terapia interdisciplinare
DESCRIPTION:
URL:https://www.sirioroma.org/event/gummy-smile-e-short-tooth-syndrome-eziopatogenesi-classificazione-diagnosi-e-terapia-interdisciplinare/
LOCATION:Sala da Feltre\, Via degli Orti di Trastevere\, 6\, Roma\, Roma\, 00153\, Italy
GEO:41.8824496;12.4674492
X-APPLE-STRUCTURED-LOCATION;VALUE=URI;X-ADDRESS=Sala da Feltre Via degli Orti di Trastevere 6 Roma Roma 00153 Italy;X-APPLE-RADIUS=500;X-TITLE=Via degli Orti di Trastevere\, 6:geo:12.4674492,41.8824496
END:VEVENT
BEGIN:VEVENT
DTSTART;TZID=Europe/Rome:20250201T080000
DTEND;TZID=Europe/Rome:20250201T170000
DTSTAMP:20260420T102929
CREATED:20241202T100944Z
LAST-MODIFIED:20241204T165208Z
UID:10000008-1738396800-1738429200@www.sirioroma.org
SUMMARY:Congresso Febbraio 2025
DESCRIPTION:
URL:https://www.sirioroma.org/event/congresso-febbraio-2025/
LOCATION:Roma
END:VEVENT
BEGIN:VEVENT
DTSTART;TZID=Europe/Rome:20250106T080000
DTEND;TZID=Europe/Rome:20250106T170000
DTSTAMP:20260420T102929
CREATED:20250106T085337Z
LAST-MODIFIED:20250106T085656Z
UID:10000009-1736150400-1736182800@www.sirioroma.org
SUMMARY:Medicina Estetica
DESCRIPTION:
URL:https://www.sirioroma.org/event/medicina-estetica/
LOCATION:Sala da Feltre\, Via degli Orti di Trastevere\, 6\, Roma\, Roma\, 00153\, Italy
GEO:41.8824496;12.4674492
X-APPLE-STRUCTURED-LOCATION;VALUE=URI;X-ADDRESS=Sala da Feltre Via degli Orti di Trastevere 6 Roma Roma 00153 Italy;X-APPLE-RADIUS=500;X-TITLE=Via degli Orti di Trastevere\, 6:geo:12.4674492,41.8824496
END:VEVENT
BEGIN:VEVENT
DTSTART;TZID=Europe/Rome:20241117T080000
DTEND;TZID=Europe/Rome:20241118T170000
DTSTAMP:20260420T102929
CREATED:20240923T080425Z
LAST-MODIFIED:20241115T112153Z
UID:10000006-1731830400-1731949200@www.sirioroma.org
SUMMARY:Congresso 2024
DESCRIPTION:
URL:https://www.sirioroma.org/event/congresso-2024/
LOCATION:Roma
END:VEVENT
BEGIN:VEVENT
DTSTART;VALUE=DATE:20241019
DTEND;VALUE=DATE:20241020
DTSTAMP:20260420T102929
CREATED:20241008T071247Z
LAST-MODIFIED:20241008T123420Z
UID:10000007-1729296000-1729382399@www.sirioroma.org
SUMMARY:Radioprotezione del paziente ai sensi ex. Art. 162 D.Lgs 101 del 2020 con particolare attenzione alla Chirurgia Computer Assistita
DESCRIPTION:
URL:https://www.sirioroma.org/event/radioprotezione-del-paziente/
LOCATION:San Camillo Forlanin\, Circonvallazione Gianicolense 87\, Roma\, 00152\, Italy
GEO:41.870378;12.4529942
X-APPLE-STRUCTURED-LOCATION;VALUE=URI;X-ADDRESS=San Camillo Forlanin Circonvallazione Gianicolense 87 Roma 00152 Italy;X-APPLE-RADIUS=500;X-TITLE=Circonvallazione Gianicolense 87:geo:12.4529942,41.870378
END:VEVENT
BEGIN:VEVENT
DTSTART;TZID=Europe/Rome:20240916T203000
DTEND;TZID=Europe/Rome:20240916T203000
DTSTAMP:20260420T102929
CREATED:20240912T174353Z
LAST-MODIFIED:20240912T175420Z
UID:10000005-1726518600-1726518600@www.sirioroma.org
SUMMARY:Gli impianti Zigomatici
DESCRIPTION:
URL:https://www.sirioroma.org/event/gli-impianti-zigomatici/
LOCATION:Sala da Feltre\, Via degli Orti di Trastevere\, 6\, Roma\, Roma\, 00153\, Italy
GEO:41.8824496;12.4674492
X-APPLE-STRUCTURED-LOCATION;VALUE=URI;X-ADDRESS=Sala da Feltre Via degli Orti di Trastevere 6 Roma Roma 00153 Italy;X-APPLE-RADIUS=500;X-TITLE=Via degli Orti di Trastevere\, 6:geo:12.4674492,41.8824496
END:VEVENT
END:VCALENDAR